BEGIN:VCALENDAR
VERSION:2.0
PRODID:-//Town of Smithfield - ECPv6.15.20//NONSGML v1.0//EN
CALSCALE:GREGORIAN
METHOD:PUBLISH
X-WR-CALNAME:Town of Smithfield
X-ORIGINAL-URL:https://smithfieldmaine.us
X-WR-CALDESC:Events for Town of Smithfield
REFRESH-INTERVAL;VALUE=DURATION:PT1H
X-Robots-Tag:noindex
X-PUBLISHED-TTL:PT1H
BEGIN:VTIMEZONE
TZID:America/New_York
BEGIN:DAYLIGHT
TZOFFSETFROM:-0500
TZOFFSETTO:-0400
TZNAME:EDT
DTSTART:20250309T070000
END:DAYLIGHT
BEGIN:STANDARD
TZOFFSETFROM:-0400
TZOFFSETTO:-0500
TZNAME:EST
DTSTART:20251102T060000
END:STANDARD
BEGIN:DAYLIGHT
TZOFFSETFROM:-0500
TZOFFSETTO:-0400
TZNAME:EDT
DTSTART:20260308T070000
END:DAYLIGHT
BEGIN:STANDARD
TZOFFSETFROM:-0400
TZOFFSETTO:-0500
TZNAME:EST
DTSTART:20261101T060000
END:STANDARD
BEGIN:DAYLIGHT
TZOFFSETFROM:-0500
TZOFFSETTO:-0400
TZNAME:EDT
DTSTART:20270314T070000
END:DAYLIGHT
BEGIN:STANDARD
TZOFFSETFROM:-0400
TZOFFSETTO:-0500
TZNAME:EST
DTSTART:20271107T060000
END:STANDARD
END:VTIMEZONE
BEGIN:VEVENT
DTSTART;TZID=America/New_York:20260602T180000
DTEND;TZID=America/New_York:20260602T210000
DTSTAMP:20260421T000318
CREATED:20260122T201457Z
LAST-MODIFIED:20260122T201457Z
UID:6710-1780423200-1780434000@smithfieldmaine.us
SUMMARY:Select Board Meeting
DESCRIPTION:email townoffice@smithfieldmaine.us for an agenda \nGo to Departments\, Boards\, Selectmen to find minutes \n 
URL:https://smithfieldmaine.us/event/select-board-meeting-8/
LOCATION:Municipal Building\, 929 Village Rd\, Smithfield\, ME\, 04978\, United States
END:VEVENT
BEGIN:VEVENT
DTSTART;TZID=America/New_York:20260531T080000
DTEND;TZID=America/New_York:20260531T170000
DTSTAMP:20260421T000318
CREATED:20260306T160826Z
LAST-MODIFIED:20260409T184043Z
UID:6791-1780214400-1780246800@smithfieldmaine.us
SUMMARY:Basket Making Class
DESCRIPTION:Wood Thrush Wilderness LLC will be holding two classes here at the Municipal Building \nTwo basket choices will be offered at the class.  Below are the links for info and registering for a class (20 max for each class) \nFiddlehead Basket & Fishing Creel Basket \n  \n 
URL:https://smithfieldmaine.us/event/basket-making-class/
END:VEVENT
BEGIN:VEVENT
DTSTART;TZID=America/New_York:20260519T180000
DTEND;TZID=America/New_York:20260519T210000
DTSTAMP:20260421T000318
CREATED:20260122T201429Z
LAST-MODIFIED:20260122T201429Z
UID:6711-1779213600-1779224400@smithfieldmaine.us
SUMMARY:Select Board Meeting
DESCRIPTION:email townoffice@smithfieldmaine.us for an agenda \nGo to Departments\, Boards\, Selectmen to find minutes \n 
URL:https://smithfieldmaine.us/event/select-board-meeting-7/
LOCATION:Municipal Building\, 929 Village Rd\, Smithfield\, ME\, 04978\, United States
END:VEVENT
BEGIN:VEVENT
DTSTART;TZID=America/New_York:20260516T080000
DTEND;TZID=America/New_York:20260516T160000
DTSTAMP:20260421T000318
CREATED:20251117T141531Z
LAST-MODIFIED:20260409T190812Z
UID:6585-1778918400-1778947200@smithfieldmaine.us
SUMMARY:2026 Barn Quilt Event
DESCRIPTION:Smithfield presents our second year of offering Barn Quilt Event \nMay 16\, 2026 \n8:00 am to 4:00 pm\nBring a lunch \n 
URL:https://smithfieldmaine.us/event/2026-barn-quilt-event/
END:VEVENT
BEGIN:VEVENT
DTSTART;TZID=America/New_York:20260513T180000
DTEND;TZID=America/New_York:20260513T210000
DTSTAMP:20260421T000318
CREATED:20260409T180737Z
LAST-MODIFIED:20260409T180737Z
UID:7065-1778695200-1778706000@smithfieldmaine.us
SUMMARY:Planning Board Meeting
DESCRIPTION:email townoffice@smithfieldmaine.us for an agenda \nGo to Departments\, Planning and find the minutes to meetings
URL:https://smithfieldmaine.us/event/planning-board-meeting-4/
LOCATION:Municipal Building\, 929 Village Rd\, Smithfield\, ME\, 04978\, United States
END:VEVENT
BEGIN:VEVENT
DTSTART;TZID=America/New_York:20260505T180000
DTEND;TZID=America/New_York:20260505T210000
DTSTAMP:20260421T000318
CREATED:20260122T201355Z
LAST-MODIFIED:20260122T201355Z
UID:6712-1778004000-1778014800@smithfieldmaine.us
SUMMARY:Select Board Meeting
DESCRIPTION:email townoffice@smithfieldmaine.us for an agenda \nGo to Departments\, Boards\, Selectmen to find minutes \n 
URL:https://smithfieldmaine.us/event/select-board-meeting-6/
LOCATION:Municipal Building\, 929 Village Rd\, Smithfield\, ME\, 04978\, United States
END:VEVENT
BEGIN:VEVENT
DTSTART;TZID=America/New_York:20260421T180000
DTEND;TZID=America/New_York:20260421T210000
DTSTAMP:20260421T000318
CREATED:20260122T201330Z
LAST-MODIFIED:20260122T201330Z
UID:6713-1776794400-1776805200@smithfieldmaine.us
SUMMARY:Select Board Meeting
DESCRIPTION:email townoffice@smithfieldmaine.us for an agenda \nGo to Departments\, Boards\, Selectmen to find minutes \n 
URL:https://smithfieldmaine.us/event/select-board-meeting-5/
LOCATION:Municipal Building\, 929 Village Rd\, Smithfield\, ME\, 04978\, United States
END:VEVENT
BEGIN:VEVENT
DTSTART;TZID=America/New_York:20260408T180000
DTEND;TZID=America/New_York:20260408T210000
DTSTAMP:20260421T000318
CREATED:20260122T201554Z
LAST-MODIFIED:20260122T201554Z
UID:6715-1775671200-1775682000@smithfieldmaine.us
SUMMARY:Planning Board Meeting
DESCRIPTION:email townoffice@smithfieldmaine.us for an agenda \nGo to Departments\, Planning and find the minutes to meetings
URL:https://smithfieldmaine.us/event/planning-board-meeting-3/
LOCATION:Municipal Building\, 929 Village Rd\, Smithfield\, ME\, 04978\, United States
END:VEVENT
BEGIN:VEVENT
DTSTART;TZID=America/New_York:20260407T180000
DTEND;TZID=America/New_York:20260407T210000
DTSTAMP:20260421T000318
CREATED:20260122T201303Z
LAST-MODIFIED:20260122T201303Z
UID:6714-1775584800-1775595600@smithfieldmaine.us
SUMMARY:Select Board Meeting
DESCRIPTION:email townoffice@smithfieldmaine.us for an agenda \nGo to Departments\, Boards\, Selectmen to find minutes \n 
URL:https://smithfieldmaine.us/event/select-board-meeting-4/
LOCATION:Municipal Building\, 929 Village Rd\, Smithfield\, ME\, 04978\, United States
END:VEVENT
BEGIN:VEVENT
DTSTART;TZID=America/New_York:20260317T180000
DTEND;TZID=America/New_York:20260317T210000
DTSTAMP:20260421T000318
CREATED:20260122T195449Z
LAST-MODIFIED:20260122T195449Z
UID:6702-1773770400-1773781200@smithfieldmaine.us
SUMMARY:Select Board Meeting
DESCRIPTION:email townoffice@smithfieldmaine.us for an agenda \nGo to Departments\, Boards\, Selectmen to find minutes \n 
URL:https://smithfieldmaine.us/event/select-board-meeting-3/
LOCATION:Municipal Building\, 929 Village Rd\, Smithfield\, ME\, 04978\, United States
END:VEVENT
BEGIN:VEVENT
DTSTART;TZID=America/New_York:20260314T090000
DTEND;TZID=America/New_York:20260314T200000
DTSTAMP:20260421T000318
CREATED:20260122T195747Z
LAST-MODIFIED:20260122T195747Z
UID:6704-1773478800-1773518400@smithfieldmaine.us
SUMMARY:Annual Town Meeting
DESCRIPTION:Saturday\, March 14\, 2026 \nMunicipal Voting 9am to 3pm \nTown Meeting starts at 6pm \nA sample ballot will be available soon \nThe Town Meeting Warrant will be available the beginning of March
URL:https://smithfieldmaine.us/event/annual-town-meeting/
END:VEVENT
BEGIN:VEVENT
DTSTART;TZID=America/New_York:20260311T180000
DTEND;TZID=America/New_York:20260311T210000
DTSTAMP:20260421T000318
CREATED:20260122T201526Z
LAST-MODIFIED:20260122T201526Z
UID:6716-1773252000-1773262800@smithfieldmaine.us
SUMMARY:Planning Board Meeting
DESCRIPTION:email townoffice@smithfieldmaine.us for an agenda \nGo to Departments\, Planning and find the minutes to meetings
URL:https://smithfieldmaine.us/event/planning-board-meeting-2/
LOCATION:Municipal Building\, 929 Village Rd\, Smithfield\, ME\, 04978\, United States
END:VEVENT
BEGIN:VEVENT
DTSTART;TZID=America/New_York:20260302T180000
DTEND;TZID=America/New_York:20260302T210000
DTSTAMP:20260421T000318
CREATED:20260122T195123Z
LAST-MODIFIED:20260122T195123Z
UID:6700-1772474400-1772485200@smithfieldmaine.us
SUMMARY:Select Board Meeting
DESCRIPTION:This meeting is not on the 1st Tuesday and has been moved a day ahead \nemail townoffice@smithfieldmaine.us for an agenda \nGo to Departments\, Boards\, Selectmen to find minutes \n 
URL:https://smithfieldmaine.us/event/select-board-meeting-2/
LOCATION:Municipal Building\, 929 Village Rd\, Smithfield\, ME\, 04978\, United States
END:VEVENT
BEGIN:VEVENT
DTSTART;TZID=America/New_York:20260217T180000
DTEND;TZID=America/New_York:20260217T210000
DTSTAMP:20260421T000318
CREATED:20260122T194638Z
LAST-MODIFIED:20260122T194745Z
UID:6696-1771351200-1771362000@smithfieldmaine.us
SUMMARY:Public Hearing 2026 Town Meeting
DESCRIPTION:Annual Town Meeting Public Hearing February 17\, 2026 @ 6pm\n\n\nFiscal Year 2026-27 Proposed Budget-this will be available on Feb 16\, 2026\, here and at the office\n\n\nProposed Ordinance Amendments to the Shoreland Zoning Ordinance\n\n\n\n\n\n\n Section 15 Land Use Standards\, W\, (New section for Fertilizer)\n\n\nSection 15 Land Use Standards\, A(b) (per DEP)\n\n\nSection 12 Non-Conformance\, C(b) (per DEP)\n\n\n\n\n\n\nProposed Comprehensive Plan Update\n\n\nSummary of Chapters\n\n\nCitizen Petition-Process to Withdraw from MSAD/RSU #54-A power point presentation will be shown\n\n\n          Reasons Why\n          Steps to be Taken
URL:https://smithfieldmaine.us/event/public-hearing-2026-town-meeting/
LOCATION:Municipal Building\, 929 Village Rd\, Smithfield\, ME\, 04978\, United States
END:VEVENT
BEGIN:VEVENT
DTSTART;TZID=America/New_York:20260217T180000
DTEND;TZID=America/New_York:20260217T180000
DTSTAMP:20260421T000318
CREATED:20260122T194525Z
LAST-MODIFIED:20260122T194525Z
UID:6694-1771351200-1771351200@smithfieldmaine.us
SUMMARY:Select Board Meeting
DESCRIPTION:email townoffice@smithfieldmaine.us for an agenda \nGo to Departments\, Boards\, Selectmen to find minutes \nAnnual Town Meeting Public Hearing will be held \nGo to Notices for items that will be discussed at the hearing
URL:https://smithfieldmaine.us/event/select-board-meeting/
LOCATION:Municipal Building\, 929 Village Rd\, Smithfield\, ME\, 04978\, United States
END:VEVENT
BEGIN:VEVENT
DTSTART;TZID=America/New_York:20260214T090000
DTEND;TZID=America/New_York:20260214T120000
DTSTAMP:20260421T000318
CREATED:20260122T200137Z
LAST-MODIFIED:20260122T200137Z
UID:6706-1771059600-1771070400@smithfieldmaine.us
SUMMARY:Budget Committee Meeting
DESCRIPTION:The Budget Committee will meet on Saturday\, February 14\, 2026\, at 9am \nThe committee goes over the proposed FY budget and gives recommendations to the money articles that will be in the Annual Warrant
URL:https://smithfieldmaine.us/event/budget-committee-meeting/
END:VEVENT
BEGIN:VEVENT
DTSTART;TZID=America/New_York:20260211T180000
DTEND;TZID=America/New_York:20260211T210000
DTSTAMP:20260421T000318
CREATED:20260122T194350Z
LAST-MODIFIED:20260122T195932Z
UID:6692-1770832800-1770843600@smithfieldmaine.us
SUMMARY:Planning Board Meeting
DESCRIPTION:email townoffice@smithfieldmaine.us for an agenda \nGo to Departments\, Planning and find the minutes to meetings
URL:https://smithfieldmaine.us/event/planning-board-meeting/
LOCATION:Municipal Building\, 929 Village Rd\, Smithfield\, ME\, 04978\, United States
END:VEVENT
BEGIN:VEVENT
DTSTART;TZID=America/New_York:20260203T180000
DTEND;TZID=America/New_York:20260203T180000
DTSTAMP:20260421T000318
CREATED:20260122T193623Z
LAST-MODIFIED:20260122T193638Z
UID:6687-1770141600-1770141600@smithfieldmaine.us
SUMMARY:Select Board Meeting
DESCRIPTION:email townoffice@smithfieldmaine.us for an agenda \nGo to Departments\, Boards\, Selectmen to find minutes
URL:https://smithfieldmaine.us/event/board-of-selectmen-meeting-23/
LOCATION:Municipal Building\, 929 Village Rd\, Smithfield\, ME\, 04978\, United States
END:VEVENT
BEGIN:VEVENT
DTSTART;TZID=America/New_York:20260120T180000
DTEND;TZID=America/New_York:20260120T180000
DTSTAMP:20260421T000318
CREATED:20260122T193528Z
LAST-MODIFIED:20260122T194240Z
UID:6685-1768932000-1768932000@smithfieldmaine.us
SUMMARY:Select Board Meeting
DESCRIPTION:email townoffice@smithfieldmaine.us for an agenda \nGo to Departments\, Boards\, Selectmen to find minutes
URL:https://smithfieldmaine.us/event/board-of-selectmen-meeting-21/
LOCATION:Municipal Building\, 929 Village Rd\, Smithfield\, ME\, 04978\, United States
END:VEVENT
BEGIN:VEVENT
DTSTART;TZID=America/New_York:20260106T180000
DTEND;TZID=America/New_York:20260106T180000
DTSTAMP:20260421T000318
CREATED:20250815T130202Z
LAST-MODIFIED:20260122T194215Z
UID:6457-1767722400-1767722400@smithfieldmaine.us
SUMMARY:Select Board Meeting
DESCRIPTION:email townoffice@smithfieldmaine.us for an agenda \nGo to Departments\, Boards\, Selectmen to find minutes
URL:https://smithfieldmaine.us/event/board-of-selectmen-meeting-20/
LOCATION:Municipal Building\, 929 Village Rd\, Smithfield\, ME\, 04978\, United States
END:VEVENT
END:VCALENDAR