BEGIN:VCALENDAR
VERSION:2.0
PRODID:-//Town of Smithfield - ECPv6.15.20//NONSGML v1.0//EN
CALSCALE:GREGORIAN
METHOD:PUBLISH
X-WR-CALNAME:Town of Smithfield
X-ORIGINAL-URL:https://smithfieldmaine.us
X-WR-CALDESC:Events for Town of Smithfield
REFRESH-INTERVAL;VALUE=DURATION:PT1H
X-Robots-Tag:noindex
X-PUBLISHED-TTL:PT1H
BEGIN:VTIMEZONE
TZID:America/New_York
BEGIN:DAYLIGHT
TZOFFSETFROM:-0500
TZOFFSETTO:-0400
TZNAME:EDT
DTSTART:20250309T070000
END:DAYLIGHT
BEGIN:STANDARD
TZOFFSETFROM:-0400
TZOFFSETTO:-0500
TZNAME:EST
DTSTART:20251102T060000
END:STANDARD
BEGIN:DAYLIGHT
TZOFFSETFROM:-0500
TZOFFSETTO:-0400
TZNAME:EDT
DTSTART:20260308T070000
END:DAYLIGHT
BEGIN:STANDARD
TZOFFSETFROM:-0400
TZOFFSETTO:-0500
TZNAME:EST
DTSTART:20261101T060000
END:STANDARD
BEGIN:DAYLIGHT
TZOFFSETFROM:-0500
TZOFFSETTO:-0400
TZNAME:EDT
DTSTART:20270314T070000
END:DAYLIGHT
BEGIN:STANDARD
TZOFFSETFROM:-0400
TZOFFSETTO:-0500
TZNAME:EST
DTSTART:20271107T060000
END:STANDARD
END:VTIMEZONE
BEGIN:VEVENT
DTSTART;TZID=America/New_York:20261020T180000
DTEND;TZID=America/New_York:20261020T210000
DTSTAMP:20260420T190648
CREATED:20260409T180449Z
LAST-MODIFIED:20260409T180449Z
UID:7055-1792519200-1792530000@smithfieldmaine.us
SUMMARY:Select Board Meeting
DESCRIPTION:email townoffice@smithfieldmaine.us for an agenda \nGo to Departments\, Boards\, Selectmen to find minutes \n 
URL:https://smithfieldmaine.us/event/select-board-meeting-17/
LOCATION:Municipal Building\, 929 Village Rd\, Smithfield\, ME\, 04978\, United States
END:VEVENT
BEGIN:VEVENT
DTSTART;TZID=America/New_York:20261103T180000
DTEND;TZID=America/New_York:20261103T210000
DTSTAMP:20260420T190648
CREATED:20260409T180507Z
LAST-MODIFIED:20260409T180507Z
UID:7057-1793728800-1793739600@smithfieldmaine.us
SUMMARY:Select Board Meeting
DESCRIPTION:email townoffice@smithfieldmaine.us for an agenda \nGo to Departments\, Boards\, Selectmen to find minutes \n 
URL:https://smithfieldmaine.us/event/select-board-meeting-18/
LOCATION:Municipal Building\, 929 Village Rd\, Smithfield\, ME\, 04978\, United States
END:VEVENT
BEGIN:VEVENT
DTSTART;TZID=America/New_York:20261111T180000
DTEND;TZID=America/New_York:20261111T210000
DTSTAMP:20260420T190648
CREATED:20260409T181102Z
LAST-MODIFIED:20260409T181102Z
UID:7077-1794420000-1794430800@smithfieldmaine.us
SUMMARY:Planning Board Meeting
DESCRIPTION:email townoffice@smithfieldmaine.us for an agenda \nGo to Departments\, Planning and find the minutes to meetings
URL:https://smithfieldmaine.us/event/planning-board-meeting-10/
LOCATION:Municipal Building\, 929 Village Rd\, Smithfield\, ME\, 04978\, United States
END:VEVENT
BEGIN:VEVENT
DTSTART;TZID=America/New_York:20261117T180000
DTEND;TZID=America/New_York:20261117T210000
DTSTAMP:20260420T190648
CREATED:20260409T180526Z
LAST-MODIFIED:20260409T180526Z
UID:7059-1794938400-1794949200@smithfieldmaine.us
SUMMARY:Select Board Meeting
DESCRIPTION:email townoffice@smithfieldmaine.us for an agenda \nGo to Departments\, Boards\, Selectmen to find minutes \n 
URL:https://smithfieldmaine.us/event/select-board-meeting-19/
LOCATION:Municipal Building\, 929 Village Rd\, Smithfield\, ME\, 04978\, United States
END:VEVENT
BEGIN:VEVENT
DTSTART;TZID=America/New_York:20261201T180000
DTEND;TZID=America/New_York:20261201T210000
DTSTAMP:20260420T190648
CREATED:20260409T180550Z
LAST-MODIFIED:20260409T180550Z
UID:7061-1796148000-1796158800@smithfieldmaine.us
SUMMARY:Select Board Meeting
DESCRIPTION:email townoffice@smithfieldmaine.us for an agenda \nGo to Departments\, Boards\, Selectmen to find minutes \n 
URL:https://smithfieldmaine.us/event/select-board-meeting-20/
LOCATION:Municipal Building\, 929 Village Rd\, Smithfield\, ME\, 04978\, United States
END:VEVENT
BEGIN:VEVENT
DTSTART;TZID=America/New_York:20261209T180000
DTEND;TZID=America/New_York:20261209T210000
DTSTAMP:20260420T190648
CREATED:20260409T182257Z
LAST-MODIFIED:20260409T182257Z
UID:7079-1796839200-1796850000@smithfieldmaine.us
SUMMARY:Planning Board Meeting
DESCRIPTION:email townoffice@smithfieldmaine.us for an agenda \nGo to Departments\, Planning and find the minutes to meetings
URL:https://smithfieldmaine.us/event/planning-board-meeting-11/
LOCATION:Municipal Building\, 929 Village Rd\, Smithfield\, ME\, 04978\, United States
END:VEVENT
BEGIN:VEVENT
DTSTART;TZID=America/New_York:20261215T180000
DTEND;TZID=America/New_York:20261215T210000
DTSTAMP:20260420T190648
CREATED:20260409T180609Z
LAST-MODIFIED:20260409T180609Z
UID:7063-1797357600-1797368400@smithfieldmaine.us
SUMMARY:Select Board Meeting
DESCRIPTION:email townoffice@smithfieldmaine.us for an agenda \nGo to Departments\, Boards\, Selectmen to find minutes \n 
URL:https://smithfieldmaine.us/event/select-board-meeting-21/
LOCATION:Municipal Building\, 929 Village Rd\, Smithfield\, ME\, 04978\, United States
END:VEVENT
END:VCALENDAR