BEGIN:VCALENDAR
VERSION:2.0
PRODID:-//Town of Smithfield - ECPv6.15.20//NONSGML v1.0//EN
CALSCALE:GREGORIAN
METHOD:PUBLISH
X-WR-CALNAME:Town of Smithfield
X-ORIGINAL-URL:https://smithfieldmaine.us
X-WR-CALDESC:Events for Town of Smithfield
REFRESH-INTERVAL;VALUE=DURATION:PT1H
X-Robots-Tag:noindex
X-PUBLISHED-TTL:PT1H
BEGIN:VTIMEZONE
TZID:America/New_York
BEGIN:DAYLIGHT
TZOFFSETFROM:-0500
TZOFFSETTO:-0400
TZNAME:EDT
DTSTART:20250309T070000
END:DAYLIGHT
BEGIN:STANDARD
TZOFFSETFROM:-0400
TZOFFSETTO:-0500
TZNAME:EST
DTSTART:20251102T060000
END:STANDARD
BEGIN:DAYLIGHT
TZOFFSETFROM:-0500
TZOFFSETTO:-0400
TZNAME:EDT
DTSTART:20260308T070000
END:DAYLIGHT
BEGIN:STANDARD
TZOFFSETFROM:-0400
TZOFFSETTO:-0500
TZNAME:EST
DTSTART:20261101T060000
END:STANDARD
BEGIN:DAYLIGHT
TZOFFSETFROM:-0500
TZOFFSETTO:-0400
TZNAME:EDT
DTSTART:20270314T070000
END:DAYLIGHT
BEGIN:STANDARD
TZOFFSETFROM:-0400
TZOFFSETTO:-0500
TZNAME:EST
DTSTART:20271107T060000
END:STANDARD
END:VTIMEZONE
BEGIN:VEVENT
DTSTART;TZID=America/New_York:20260217T180000
DTEND;TZID=America/New_York:20260217T180000
DTSTAMP:20260420T150555
CREATED:20260122T194525Z
LAST-MODIFIED:20260122T194525Z
UID:6694-1771351200-1771351200@smithfieldmaine.us
SUMMARY:Select Board Meeting
DESCRIPTION:email townoffice@smithfieldmaine.us for an agenda \nGo to Departments\, Boards\, Selectmen to find minutes \nAnnual Town Meeting Public Hearing will be held \nGo to Notices for items that will be discussed at the hearing
URL:https://smithfieldmaine.us/event/select-board-meeting/
LOCATION:Municipal Building\, 929 Village Rd\, Smithfield\, ME\, 04978\, United States
END:VEVENT
BEGIN:VEVENT
DTSTART;TZID=America/New_York:20260214T090000
DTEND;TZID=America/New_York:20260214T120000
DTSTAMP:20260420T150555
CREATED:20260122T200137Z
LAST-MODIFIED:20260122T200137Z
UID:6706-1771059600-1771070400@smithfieldmaine.us
SUMMARY:Budget Committee Meeting
DESCRIPTION:The Budget Committee will meet on Saturday\, February 14\, 2026\, at 9am \nThe committee goes over the proposed FY budget and gives recommendations to the money articles that will be in the Annual Warrant
URL:https://smithfieldmaine.us/event/budget-committee-meeting/
LOCATION:ME
END:VEVENT
BEGIN:VEVENT
DTSTART;TZID=America/New_York:20260211T180000
DTEND;TZID=America/New_York:20260211T210000
DTSTAMP:20260420T150555
CREATED:20260122T194350Z
LAST-MODIFIED:20260122T195932Z
UID:6692-1770832800-1770843600@smithfieldmaine.us
SUMMARY:Planning Board Meeting
DESCRIPTION:email townoffice@smithfieldmaine.us for an agenda \nGo to Departments\, Planning and find the minutes to meetings
URL:https://smithfieldmaine.us/event/planning-board-meeting/
LOCATION:Municipal Building\, 929 Village Rd\, Smithfield\, ME\, 04978\, United States
END:VEVENT
BEGIN:VEVENT
DTSTART;TZID=America/New_York:20260203T180000
DTEND;TZID=America/New_York:20260203T180000
DTSTAMP:20260420T150555
CREATED:20260122T193623Z
LAST-MODIFIED:20260122T193638Z
UID:6687-1770141600-1770141600@smithfieldmaine.us
SUMMARY:Select Board Meeting
DESCRIPTION:email townoffice@smithfieldmaine.us for an agenda \nGo to Departments\, Boards\, Selectmen to find minutes
URL:https://smithfieldmaine.us/event/board-of-selectmen-meeting-23/
LOCATION:Municipal Building\, 929 Village Rd\, Smithfield\, ME\, 04978\, United States
END:VEVENT
BEGIN:VEVENT
DTSTART;TZID=America/New_York:20260120T180000
DTEND;TZID=America/New_York:20260120T180000
DTSTAMP:20260420T150555
CREATED:20260122T193528Z
LAST-MODIFIED:20260122T194240Z
UID:6685-1768932000-1768932000@smithfieldmaine.us
SUMMARY:Select Board Meeting
DESCRIPTION:email townoffice@smithfieldmaine.us for an agenda \nGo to Departments\, Boards\, Selectmen to find minutes
URL:https://smithfieldmaine.us/event/board-of-selectmen-meeting-21/
LOCATION:Municipal Building\, 929 Village Rd\, Smithfield\, ME\, 04978\, United States
END:VEVENT
BEGIN:VEVENT
DTSTART;TZID=America/New_York:20260106T180000
DTEND;TZID=America/New_York:20260106T180000
DTSTAMP:20260420T150555
CREATED:20250815T130202Z
LAST-MODIFIED:20260122T194215Z
UID:6457-1767722400-1767722400@smithfieldmaine.us
SUMMARY:Select Board Meeting
DESCRIPTION:email townoffice@smithfieldmaine.us for an agenda \nGo to Departments\, Boards\, Selectmen to find minutes
URL:https://smithfieldmaine.us/event/board-of-selectmen-meeting-20/
LOCATION:Municipal Building\, 929 Village Rd\, Smithfield\, ME\, 04978\, United States
END:VEVENT
END:VCALENDAR