BEGIN:VCALENDAR
VERSION:2.0
PRODID:-//Town of Smithfield - ECPv6.15.20//NONSGML v1.0//EN
CALSCALE:GREGORIAN
METHOD:PUBLISH
X-WR-CALNAME:Town of Smithfield
X-ORIGINAL-URL:https://smithfieldmaine.us
X-WR-CALDESC:Events for Town of Smithfield
REFRESH-INTERVAL;VALUE=DURATION:PT1H
X-Robots-Tag:noindex
X-PUBLISHED-TTL:PT1H
BEGIN:VTIMEZONE
TZID:America/New_York
BEGIN:DAYLIGHT
TZOFFSETFROM:-0500
TZOFFSETTO:-0400
TZNAME:EDT
DTSTART:20250309T070000
END:DAYLIGHT
BEGIN:STANDARD
TZOFFSETFROM:-0400
TZOFFSETTO:-0500
TZNAME:EST
DTSTART:20251102T060000
END:STANDARD
BEGIN:DAYLIGHT
TZOFFSETFROM:-0500
TZOFFSETTO:-0400
TZNAME:EDT
DTSTART:20260308T070000
END:DAYLIGHT
BEGIN:STANDARD
TZOFFSETFROM:-0400
TZOFFSETTO:-0500
TZNAME:EST
DTSTART:20261101T060000
END:STANDARD
BEGIN:DAYLIGHT
TZOFFSETFROM:-0500
TZOFFSETTO:-0400
TZNAME:EDT
DTSTART:20270314T070000
END:DAYLIGHT
BEGIN:STANDARD
TZOFFSETFROM:-0400
TZOFFSETTO:-0500
TZNAME:EST
DTSTART:20271107T060000
END:STANDARD
END:VTIMEZONE
BEGIN:VEVENT
DTSTART;TZID=America/New_York:20260602T180000
DTEND;TZID=America/New_York:20260602T210000
DTSTAMP:20260420T052209
CREATED:20260122T201457Z
LAST-MODIFIED:20260122T201457Z
UID:6710-1780423200-1780434000@smithfieldmaine.us
SUMMARY:Select Board Meeting
DESCRIPTION:email townoffice@smithfieldmaine.us for an agenda \nGo to Departments\, Boards\, Selectmen to find minutes \n 
URL:https://smithfieldmaine.us/event/select-board-meeting-8/
LOCATION:Municipal Building\, 929 Village Rd\, Smithfield\, ME\, 04978\, United States
END:VEVENT
BEGIN:VEVENT
DTSTART;TZID=America/New_York:20260610T180000
DTEND;TZID=America/New_York:20260610T210000
DTSTAMP:20260420T052209
CREATED:20260409T180811Z
LAST-MODIFIED:20260409T180811Z
UID:7067-1781114400-1781125200@smithfieldmaine.us
SUMMARY:Planning Board Meeting
DESCRIPTION:email townoffice@smithfieldmaine.us for an agenda \nGo to Departments\, Planning and find the minutes to meetings
URL:https://smithfieldmaine.us/event/planning-board-meeting-5/
LOCATION:Municipal Building\, 929 Village Rd\, Smithfield\, ME\, 04978\, United States
END:VEVENT
BEGIN:VEVENT
DTSTART;TZID=America/New_York:20260616T180000
DTEND;TZID=America/New_York:20260616T210000
DTSTAMP:20260420T052209
CREATED:20260305T202619Z
LAST-MODIFIED:20260305T202619Z
UID:6740-1781632800-1781643600@smithfieldmaine.us
SUMMARY:Select Board Meeting
DESCRIPTION:email townoffice@smithfieldmaine.us for an agenda \nGo to Departments\, Boards\, Selectmen to find minutes \n 
URL:https://smithfieldmaine.us/event/select-board-meeting-9/
LOCATION:Municipal Building\, 929 Village Rd\, Smithfield\, ME\, 04978\, United States
END:VEVENT
BEGIN:VEVENT
DTSTART;TZID=America/New_York:20260627T110000
DTEND;TZID=America/New_York:20260627T140000
DTSTAMP:20260420T052209
CREATED:20250415T163531Z
LAST-MODIFIED:20260122T194941Z
UID:6241-1782558000-1782568800@smithfieldmaine.us
SUMMARY:Fire Department Annual Chicken BBQ
DESCRIPTION:Time: 11:00 am to Gone (usually 2:00 pm) \nCost: $15.00 \nLocation: Fire Station at 926 Village Rd \nHalf a chicken\, Cole slaw\, Baked Beans\, dessert\, roll\, & drink
URL:https://smithfieldmaine.us/event/fire-department-annual-chicken-bbq/
END:VEVENT
END:VCALENDAR